BEGIN:VCALENDAR
VERSION:2.0
PRODID:-//eventon.com NONSGML v1.0//EN
BEGIN:VEVENT
UID:69e8b3057e4c0
DTSTAMP:20260422T133741
DTSTART:20200923T070000Z
DTEND:20200923T150000Z
LOCATION:Linz Poschacherstrasse 37\,  4020 Linz
SUMMARY:ApotronikXP für Einsteiger
DESCRIPTION: Besonders coole Einheit!
END:VEVENT
END:VCALENDAR